BEGIN:VCALENDAR
VERSION:2.0
PRODID:-//Los Angeles Sports &amp; Entertainment Commission - ECPv6.11.2.1//NONSGML v1.0//EN
CALSCALE:GREGORIAN
METHOD:PUBLISH
X-WR-CALNAME:Los Angeles Sports &amp; Entertainment Commission
X-ORIGINAL-URL:https://www.lasec.net
X-WR-CALDESC:Events for Los Angeles Sports &amp; Entertainment Commission
REFRESH-INTERVAL;VALUE=DURATION:PT1H
X-Robots-Tag:noindex
X-PUBLISHED-TTL:PT1H
BEGIN:VTIMEZONE
TZID:America/Los_Angeles
BEGIN:DAYLIGHT
TZOFFSETFROM:-0800
TZOFFSETTO:-0700
TZNAME:PDT
DTSTART:20230312T100000
END:DAYLIGHT
BEGIN:STANDARD
TZOFFSETFROM:-0700
TZOFFSETTO:-0800
TZNAME:PST
DTSTART:20231105T090000
END:STANDARD
END:VTIMEZONE
BEGIN:VEVENT
DTSTART;VALUE=DATE:20230805
DTEND;VALUE=DATE:20230806
DTSTAMP:20260419T212147
CREATED:20230327T214519Z
LAST-MODIFIED:20230327T214519Z
UID:7956-1691193600-1691279999@www.lasec.net
SUMMARY:Teen Choice Awards
DESCRIPTION:
URL:https://www.lasec.net/event/teen-choice-awards/
LOCATION:Peacock Theater\, 777 Chick Hearn Ct\, Los Angeles\, CA\, 90015\, United States
END:VEVENT
BEGIN:VEVENT
DTSTART;TZID=America/Los_Angeles:20230802T193000
DTEND;TZID=America/Los_Angeles:20230802T213000
DTSTAMP:20260419T212147
CREATED:20230728T193601Z
LAST-MODIFIED:20230802T154340Z
UID:8416-1691004600-1691011800@www.lasec.net
SUMMARY:Leagues Cup: LAFC vs. FC Juárez
DESCRIPTION:
URL:https://www.lasec.net/event/leagues-cup-lafc-vs-tbd/
LOCATION:BMO Stadium\, 3939 S. Figueroa St.\, Los Angeles\, CA\, 90037\, United States
END:VEVENT
BEGIN:VEVENT
DTSTART;VALUE=DATE:20230729
DTEND;VALUE=DATE:20230730
DTSTAMP:20260419T212147
CREATED:20230608T163946Z
LAST-MODIFIED:20230608T163946Z
UID:8257-1690588800-1690675199@www.lasec.net
SUMMARY:Leagues Cup: LA Galaxy vs. Vancouver Whitecaps FC
DESCRIPTION:
URL:https://www.lasec.net/event/leagues-cup-la-galaxy-vs-vancouver-whitecaps-fc/
LOCATION:Dignity Health Sports Park\, 18400 Avalon Blvd\, Carson\, CA\, 90746\, United States
END:VEVENT
BEGIN:VEVENT
DTSTART;VALUE=DATE:20230727
DTEND;VALUE=DATE:20230728
DTSTAMP:20260419T212147
CREATED:20230608T163822Z
LAST-MODIFIED:20230608T163822Z
UID:8255-1690416000-1690502399@www.lasec.net
SUMMARY:Soccer Champions Tour: AC Milan vs. Juventus
DESCRIPTION:
URL:https://www.lasec.net/event/soccer-champions-tour-ac-milan-vs-juventus/
LOCATION:Dignity Health Sports Park\, 18400 Avalon Blvd\, Carson\, CA\, 90746\, United States
END:VEVENT
BEGIN:VEVENT
DTSTART;VALUE=DATE:20230726
DTEND;VALUE=DATE:20230727
DTSTAMP:20260419T212147
CREATED:20230608T163717Z
LAST-MODIFIED:20230608T163717Z
UID:8252-1690329600-1690415999@www.lasec.net
SUMMARY:Soccer Champions Tour: Arsenal vs. FC Barcelona
DESCRIPTION:
URL:https://www.lasec.net/event/soccer-champions-tour-arsenal-vs-fc-barcelona/
LOCATION:SoFi Stadium\, 1001 S. Stadium Drive\, Inglewood\, CA\, 90301\, United States
END:VEVENT
BEGIN:VEVENT
DTSTART;VALUE=DATE:20230725
DTEND;VALUE=DATE:20230726
DTSTAMP:20260419T212147
CREATED:20230608T163436Z
LAST-MODIFIED:20230608T163436Z
UID:8250-1690243200-1690329599@www.lasec.net
SUMMARY:Leagues Cup: LA Galaxy vs. Club León
DESCRIPTION:
URL:https://www.lasec.net/event/leagues-cup-la-galaxy-vs-club-leon/
LOCATION:Dignity Health Sports Park\, 18400 Avalon Blvd\, Carson\, CA\, 90746\, United States
END:VEVENT
BEGIN:VEVENT
DTSTART;VALUE=DATE:20230723
DTEND;VALUE=DATE:20230724
DTSTAMP:20260419T212147
CREATED:20230608T163326Z
LAST-MODIFIED:20230608T163326Z
UID:8248-1690070400-1690156799@www.lasec.net
SUMMARY:Soccer Champions Tour: Real Madrid vs. AC Milan
DESCRIPTION:
URL:https://www.lasec.net/event/soccer-champions-tour-real-madrid-vs-ac-milan/
LOCATION:Rose Bowl Stadium\, 1001 Rose Bowl Dr\, Pasadena\, CA\, 91103\, United States
END:VEVENT
BEGIN:VEVENT
DTSTART;VALUE=DATE:20230722
DTEND;VALUE=DATE:20230724
DTSTAMP:20260419T212147
CREATED:20230608T210546Z
LAST-MODIFIED:20230608T210546Z
UID:8266-1689984000-1690156799@www.lasec.net
SUMMARY:Los Angeles SailGP
DESCRIPTION:
URL:https://www.lasec.net/event/los-angeles-sailgp/
END:VEVENT
BEGIN:VEVENT
DTSTART;VALUE=DATE:20230722
DTEND;VALUE=DATE:20230723
DTSTAMP:20260419T212147
CREATED:20230608T163141Z
LAST-MODIFIED:20230608T163141Z
UID:8246-1689984000-1690070399@www.lasec.net
SUMMARY:LA Galaxy II vs. Wrexham AFC
DESCRIPTION:
URL:https://www.lasec.net/event/la-galaxy-ii-vs-wrexham-afc/
LOCATION:Dignity Health Sports Park\, 18400 Avalon Blvd\, Carson\, CA\, 90746\, United States
END:VEVENT
BEGIN:VEVENT
DTSTART;VALUE=DATE:20230721
DTEND;VALUE=DATE:20230724
DTSTAMP:20260419T212147
CREATED:20230608T210414Z
LAST-MODIFIED:20230608T210414Z
UID:8264-1689897600-1690156799@www.lasec.net
SUMMARY:Ultimate Tennis Showdown
DESCRIPTION:
URL:https://www.lasec.net/event/ultimate-tennis-showdown/
LOCATION:Dignity Health Sports Park\, 18400 Avalon Blvd\, Carson\, CA\, 90746\, United States
END:VEVENT
BEGIN:VEVENT
DTSTART;VALUE=DATE:20230716
DTEND;VALUE=DATE:20230717
DTSTAMP:20260419T212147
CREATED:20230327T214124Z
LAST-MODIFIED:20230327T214124Z
UID:7954-1689465600-1689551999@www.lasec.net
SUMMARY:Concacaf Gold Cup Final
DESCRIPTION:
URL:https://www.lasec.net/event/concacaf-gold-cup-final/
LOCATION:SoFi Stadium\, 1001 S. Stadium Drive\, Inglewood\, CA\, 90301\, United States
END:VEVENT
BEGIN:VEVENT
DTSTART;VALUE=DATE:20230707
DTEND;VALUE=DATE:20230710
DTSTAMP:20260419T212147
CREATED:20230608T161846Z
LAST-MODIFIED:20230608T161846Z
UID:8235-1688688000-1688947199@www.lasec.net
SUMMARY:AVP Hermosa Beach Open
DESCRIPTION:
URL:https://www.lasec.net/event/avp-hermosa-beach-open/
END:VEVENT
BEGIN:VEVENT
DTSTART;VALUE=DATE:20230704
DTEND;VALUE=DATE:20230705
DTSTAMP:20260419T212147
CREATED:20230608T162948Z
LAST-MODIFIED:20230608T162948Z
UID:8244-1688428800-1688515199@www.lasec.net
SUMMARY:LA Galaxy vs. LAFC Rescheduled Season Opener
DESCRIPTION:
URL:https://www.lasec.net/event/la-galaxy-vs-lafc-rescheduled-season-opener/
LOCATION:Rose Bowl Stadium\, 1001 Rose Bowl Dr\, Pasadena\, CA\, 91103\, United States
END:VEVENT
BEGIN:VEVENT
DTSTART;VALUE=DATE:20230625
DTEND;VALUE=DATE:20230626
DTSTAMP:20260419T212147
CREATED:20230608T162713Z
LAST-MODIFIED:20230608T162713Z
UID:8242-1687651200-1687737599@www.lasec.net
SUMMARY:Campeón de Campeones: C.F. Pachuca vs. Tigres UANL
DESCRIPTION:
URL:https://www.lasec.net/event/campeon-de-campeones-c-f-pachuca-vs-tigres-uanl/
LOCATION:Dignity Health Sports Park\, 18400 Avalon Blvd\, Carson\, CA\, 90746\, United States
END:VEVENT
BEGIN:VEVENT
DTSTART;VALUE=DATE:20230625
DTEND;VALUE=DATE:20230626
DTSTAMP:20260419T212147
CREATED:20230327T213123Z
LAST-MODIFIED:20230327T213123Z
UID:7949-1687651200-1687737599@www.lasec.net
SUMMARY:BET Awards & BET Experience
DESCRIPTION:
URL:https://www.lasec.net/event/bet-awards-bet-experience/
LOCATION:Los Angeles\, California\, Los Angeles\, CA\, United States
END:VEVENT
BEGIN:VEVENT
DTSTART;VALUE=DATE:20230617
DTEND;VALUE=DATE:20230619
DTSTAMP:20260419T212147
CREATED:20230327T212708Z
LAST-MODIFIED:20230327T212708Z
UID:7946-1686960000-1687132799@www.lasec.net
SUMMARY:Hollywood Bowl Jazz Festival
DESCRIPTION:
URL:https://www.lasec.net/event/hollywood-bowl-jazz-festival/
LOCATION:Hollywood Bowl
END:VEVENT
BEGIN:VEVENT
DTSTART;VALUE=DATE:20230615
DTEND;VALUE=DATE:20230619
DTSTAMP:20260419T212147
CREATED:20230327T212009Z
LAST-MODIFIED:20230608T164059Z
UID:7943-1686787200-1687132799@www.lasec.net
SUMMARY:123rd U.S. Open Championship (Golf)
DESCRIPTION:
URL:https://www.lasec.net/event/u-s-open-golf/
LOCATION:Los Angeles Country Club\, 10101 Wilshire Blvd\, Los Angeles\, CA\, 90024\, United States
END:VEVENT
BEGIN:VEVENT
DTSTART;VALUE=DATE:20230615
DTEND;VALUE=DATE:20230616
DTSTAMP:20260419T212147
CREATED:20230608T162529Z
LAST-MODIFIED:20230608T162529Z
UID:8239-1686787200-1686873599@www.lasec.net
SUMMARY:Guatemala vs. Costa Rica (International Friendly)
DESCRIPTION:
URL:https://www.lasec.net/event/guatemala-vs-costa-rica-international-friendly/
LOCATION:Dignity Health Sports Park\, 18400 Avalon Blvd\, Carson\, CA\, 90746\, United States
END:VEVENT
BEGIN:VEVENT
DTSTART;VALUE=DATE:20230613
DTEND;VALUE=DATE:20230617
DTSTAMP:20260419T212147
CREATED:20230327T211615Z
LAST-MODIFIED:20230327T211615Z
UID:7941-1686614400-1686959999@www.lasec.net
SUMMARY:E-3 Electronic Entertainment Expo
DESCRIPTION:
URL:https://www.lasec.net/event/e-3-electronic-entertainment-expo/
LOCATION:Los Angeles Convention Center\, 1201 South Figueroa Street\, Los Angeles\, CA\, 90015\, United States
END:VEVENT
BEGIN:VEVENT
DTSTART;VALUE=DATE:20230610
DTEND;VALUE=DATE:20230611
DTSTAMP:20260419T212147
CREATED:20230327T211354Z
LAST-MODIFIED:20230327T211354Z
UID:7938-1686355200-1686441599@www.lasec.net
SUMMARY:AFI Lifetime Achievement Award
DESCRIPTION:
URL:https://www.lasec.net/event/afi-lifetime-achievement-award/
LOCATION:Dolby Theatre
END:VEVENT
BEGIN:VEVENT
DTSTART;VALUE=DATE:20230508
DTEND;VALUE=DATE:20230509
DTSTAMP:20260419T212147
CREATED:20230327T210023Z
LAST-MODIFIED:20230327T210220Z
UID:7934-1683504000-1683590399@www.lasec.net
SUMMARY:LASEC Golf Classic
DESCRIPTION:
URL:https://www.lasec.net/event/lasec-golf-classic/
LOCATION:THE RIVIERA COUNTRY CLUB\, 1250 Capri Drive Pacific\, Palisades\, CA\, 90272\, United States
END:VEVENT
BEGIN:VEVENT
DTSTART;VALUE=DATE:20230507
DTEND;VALUE=DATE:20230508
DTSTAMP:20260419T212147
CREATED:20230327T204952Z
LAST-MODIFIED:20230327T204952Z
UID:7930-1683417600-1683503999@www.lasec.net
SUMMARY:MTV Movie Awards
DESCRIPTION:
URL:https://www.lasec.net/event/mtv-movie-awards/
LOCATION:Barkar Hanger — Los Angeles\, CA\, 3021 Airport Ave\, Santa Monica\, CA\, 90405\, United States
END:VEVENT
BEGIN:VEVENT
DTSTART;VALUE=DATE:20230414
DTEND;VALUE=DATE:20230417
DTSTAMP:20260419T212147
CREATED:20230327T204518Z
LAST-MODIFIED:20230327T204518Z
UID:7927-1681430400-1681689599@www.lasec.net
SUMMARY:Acura Grand Prix of Long Beach
DESCRIPTION:
URL:https://www.lasec.net/event/acura-grand-prix-of-long-beach/
LOCATION:Long Beach\, Long Beach\, CA\, United States
END:VEVENT
BEGIN:VEVENT
DTSTART;VALUE=DATE:20230413
DTEND;VALUE=DATE:20230417
DTSTAMP:20260419T212147
CREATED:20230327T203057Z
LAST-MODIFIED:20230327T203057Z
UID:7923-1681344000-1681689599@www.lasec.net
SUMMARY:TCM Classic Film Festival
DESCRIPTION:
URL:https://www.lasec.net/event/tcm-classic-film-festival/
LOCATION:Hollywood\, Hollywood\, CA\, United States
END:VEVENT
BEGIN:VEVENT
DTSTART;VALUE=DATE:20230401
DTEND;VALUE=DATE:20230403
DTSTAMP:20260419T212147
CREATED:20230327T202508Z
LAST-MODIFIED:20230327T202547Z
UID:7920-1680307200-1680479999@www.lasec.net
SUMMARY:WWE WrestleMania
DESCRIPTION:
URL:https://www.lasec.net/event/wwe-wrestlemania/
LOCATION:SoFi Stadium\, 1001 S. Stadium Drive\, Inglewood\, CA\, 90301\, United States
END:VEVENT
END:VCALENDAR