BEGIN:VCALENDAR
VERSION:2.0
PRODID:-//Los Angeles Sports &amp; Entertainment Commission - ECPv6.11.2.1//NONSGML v1.0//EN
CALSCALE:GREGORIAN
METHOD:PUBLISH
X-WR-CALNAME:Los Angeles Sports &amp; Entertainment Commission
X-ORIGINAL-URL:https://www.lasec.net
X-WR-CALDESC:Events for Los Angeles Sports &amp; Entertainment Commission
REFRESH-INTERVAL;VALUE=DURATION:PT1H
X-Robots-Tag:noindex
X-PUBLISHED-TTL:PT1H
BEGIN:VTIMEZONE
TZID:America/Los_Angeles
BEGIN:DAYLIGHT
TZOFFSETFROM:-0800
TZOFFSETTO:-0700
TZNAME:PDT
DTSTART:20230312T100000
END:DAYLIGHT
BEGIN:STANDARD
TZOFFSETFROM:-0700
TZOFFSETTO:-0800
TZNAME:PST
DTSTART:20231105T090000
END:STANDARD
END:VTIMEZONE
BEGIN:VEVENT
DTSTART;VALUE=DATE:20230610
DTEND;VALUE=DATE:20230611
DTSTAMP:20260420T005343
CREATED:20230327T211354Z
LAST-MODIFIED:20230327T211354Z
UID:7938-1686355200-1686441599@www.lasec.net
SUMMARY:AFI Lifetime Achievement Award
DESCRIPTION:
URL:https://www.lasec.net/event/afi-lifetime-achievement-award/
LOCATION:Dolby Theatre
END:VEVENT
BEGIN:VEVENT
DTSTART;VALUE=DATE:20230508
DTEND;VALUE=DATE:20230509
DTSTAMP:20260420T005343
CREATED:20230327T210023Z
LAST-MODIFIED:20230327T210220Z
UID:7934-1683504000-1683590399@www.lasec.net
SUMMARY:LASEC Golf Classic
DESCRIPTION:
URL:https://www.lasec.net/event/lasec-golf-classic/
LOCATION:THE RIVIERA COUNTRY CLUB\, 1250 Capri Drive Pacific\, Palisades\, CA\, 90272\, United States
END:VEVENT
BEGIN:VEVENT
DTSTART;VALUE=DATE:20230507
DTEND;VALUE=DATE:20230508
DTSTAMP:20260420T005343
CREATED:20230327T204952Z
LAST-MODIFIED:20230327T204952Z
UID:7930-1683417600-1683503999@www.lasec.net
SUMMARY:MTV Movie Awards
DESCRIPTION:
URL:https://www.lasec.net/event/mtv-movie-awards/
LOCATION:Barkar Hanger — Los Angeles\, CA\, 3021 Airport Ave\, Santa Monica\, CA\, 90405\, United States
END:VEVENT
BEGIN:VEVENT
DTSTART;VALUE=DATE:20230414
DTEND;VALUE=DATE:20230417
DTSTAMP:20260420T005343
CREATED:20230327T204518Z
LAST-MODIFIED:20230327T204518Z
UID:7927-1681430400-1681689599@www.lasec.net
SUMMARY:Acura Grand Prix of Long Beach
DESCRIPTION:
URL:https://www.lasec.net/event/acura-grand-prix-of-long-beach/
LOCATION:Long Beach\, Long Beach\, CA\, United States
END:VEVENT
BEGIN:VEVENT
DTSTART;VALUE=DATE:20230413
DTEND;VALUE=DATE:20230417
DTSTAMP:20260420T005343
CREATED:20230327T203057Z
LAST-MODIFIED:20230327T203057Z
UID:7923-1681344000-1681689599@www.lasec.net
SUMMARY:TCM Classic Film Festival
DESCRIPTION:
URL:https://www.lasec.net/event/tcm-classic-film-festival/
LOCATION:Hollywood\, Hollywood\, CA\, United States
END:VEVENT
BEGIN:VEVENT
DTSTART;VALUE=DATE:20230401
DTEND;VALUE=DATE:20230403
DTSTAMP:20260420T005343
CREATED:20230327T202508Z
LAST-MODIFIED:20230327T202547Z
UID:7920-1680307200-1680479999@www.lasec.net
SUMMARY:WWE WrestleMania
DESCRIPTION:
URL:https://www.lasec.net/event/wwe-wrestlemania/
LOCATION:SoFi Stadium\, 1001 S. Stadium Drive\, Inglewood\, CA\, 90301\, United States
END:VEVENT
END:VCALENDAR