BEGIN:VCALENDAR
VERSION:2.0
PRODID:-//Los Angeles Sports &amp; Entertainment Commission - ECPv6.11.2.1//NONSGML v1.0//EN
CALSCALE:GREGORIAN
METHOD:PUBLISH
X-ORIGINAL-URL:https://www.lasec.net
X-WR-CALDESC:Events for Los Angeles Sports &amp; Entertainment Commission
REFRESH-INTERVAL;VALUE=DURATION:PT1H
X-Robots-Tag:noindex
X-PUBLISHED-TTL:PT1H
BEGIN:VTIMEZONE
TZID:America/Los_Angeles
BEGIN:DAYLIGHT
TZOFFSETFROM:-0800
TZOFFSETTO:-0700
TZNAME:PDT
DTSTART:20240310T100000
END:DAYLIGHT
BEGIN:STANDARD
TZOFFSETFROM:-0700
TZOFFSETTO:-0800
TZNAME:PST
DTSTART:20241103T090000
END:STANDARD
END:VTIMEZONE
BEGIN:VEVENT
DTSTART;TZID=America/Los_Angeles:20240630T130000
DTEND;TZID=America/Los_Angeles:20240630T150000
DTSTAMP:20260420T005826
CREATED:20240408T160040Z
LAST-MODIFIED:20240408T160040Z
UID:9518-1719752400-1719759600@www.lasec.net
SUMMARY:Campeón de Campeones: Club América vs. 2024 LIGA MX Clausura winner
DESCRIPTION:
URL:https://www.lasec.net/event/campeon-de-campeones-club-america-vs-2024-liga-mx-clausura-winner/
LOCATION:Dignity Health Sports Park\, 18400 Avalon Blvd\, Carson\, CA\, 90746\, United States
END:VEVENT
BEGIN:VEVENT
DTSTART;TZID=America/Los_Angeles:20240704T193000
DTEND;TZID=America/Los_Angeles:20240704T213000
DTSTAMP:20260420T005826
CREATED:20240102T222008Z
LAST-MODIFIED:20240102T222008Z
UID:9129-1720121400-1720128600@www.lasec.net
SUMMARY:LA Galaxy vs. LAFC Fourth of July Match
DESCRIPTION:
URL:https://www.lasec.net/event/la-galaxy-vs-lafc-fourth-of-july-match/
LOCATION:Rose Bowl Stadium\, 1001 Rose Bowl Dr\, Pasadena\, CA\, 91103\, United States
END:VEVENT
BEGIN:VEVENT
DTSTART;VALUE=DATE:20240715
DTEND;VALUE=DATE:20240721
DTSTAMP:20260420T005826
CREATED:20240102T220130Z
LAST-MODIFIED:20240102T220130Z
UID:9124-1721001600-1721519999@www.lasec.net
SUMMARY:75th U.S. Girls’ Junior Championship
DESCRIPTION:
URL:https://www.lasec.net/event/75th-u-s-girls-junior-championship/
LOCATION:El Caballero Country Club\, 18300 Tarzana Dr\, Tarzana\, CA\, 91356\, United States
END:VEVENT
BEGIN:VEVENT
DTSTART;TZID=America/Los_Angeles:20240727T190000
DTEND;TZID=America/Los_Angeles:20240727T210000
DTSTAMP:20260420T005826
CREATED:20240506T160928Z
LAST-MODIFIED:20240506T160928Z
UID:9617-1722106800-1722114000@www.lasec.net
SUMMARY:Guatemala vs. El Salvador International Friendly
DESCRIPTION:
URL:https://www.lasec.net/event/guatemala-vs-el-salvador-international-friendly/
LOCATION:Dignity Health Sports Park\, 18400 Avalon Blvd\, Carson\, CA\, 90746\, United States
END:VEVENT
END:VCALENDAR